BEGIN:VCALENDAR
VERSION:2.0
PRODID:-//wp-events-plugin.com//7.2.3.1//EN
TZID:Europe/Berlin
X-WR-TIMEZONE:Europe/Berlin
BEGIN:VEVENT
UID:12@infra-alarm.de
DTSTART;TZID=Europe/Berlin:20260927T110000
DTEND;TZID=Europe/Berlin:20260927T180000
DTSTAMP:20260421T183852Z
URL:https://infra-alarm.de/events/alarmanlagen-fuer-sonsbeck-beratung-auf-
 dem-sonsbecker-herbstmarkt/
SUMMARY:Alarmanlagen für Sonsbeck – Beratung auf dem Sonsbecker Herbstma
 rkt
DESCRIPTION:Auf dem Sonsbecker Herbstmarkt informieren wir Sie umfassend ü
 ber moderne Alarmanlagen für Sonsbeck sowie durchdachte Lösungen im Bere
 ich Einbruchschutz und Sicherheitstechnik.\nAls regional tätiger Fachbetr
 ieb zeigen wir\, wie sich Sicherheitskonzepte individuell an Wohnhäuser\,
  Wohnungen und gewerbliche Objekte anpassen lassen. Dabei stehen praxistau
 gliche Lösungen im Vordergrund\, die zuverlässig funktionieren und sich 
 sinnvoll in den Alltag integrieren lassen.\nDer Herbstmarkt bietet eine gu
 te Gelegenheit\, sich unverbindlich und fachlich fundiert zu Alarmanlagen 
 für Sonsbeck beraten zu lassen.\n\n\n\n\nAlarmanlagen für Sonsbeck und U
 mgebung – sinnvoll geplant\nModerne Alarmanlagen sind ein zentraler Best
 andteil eines wirksamen Sicherheitskonzepts. Entscheidend ist jedoch die r
 ichtige Planung und Abstimmung auf das jeweilige Objekt.\nAm Informationss
 tand erhalten Sie Einblicke in:\n\n\n 	Alarmanlagen für Einfamilienhäuse
 r und Wohnungen\n 	Sicherheitslösungen für Gewerbe und Betriebe\n 	Syste
 me zur frühzeitigen Erkennung von Einbruchsversuchen\n 	Nachrüstbare Ala
 rmanlagen ohne größere bauliche Eingriffe\n\nUnser Fokus liegt auf Lösu
 ngen\, die technisch sinnvoll\, wirtschaftlich und langfristig zuverlässi
 g sind.\n\n\n\n\nEinbruchschutz in Sonsbeck – Technik verständlich erkl
 ärt\nWer sich mit Einbruchschutz beschäftigt\, steht oft vor vielen tech
 nischen Möglichkeiten. Wir unterstützen Sie dabei\, die passende Lösung
  zu finden.\nWir zeigen Ihnen vor Ort:\n\n\n 	wie Alarmanlagen für Sonsbe
 ck aufgebaut sind\n 	welche Komponenten heute Stand der Technik sind\n 	wo
 rauf bei Auswahl und Installation zu achten ist\n 	welche Unterschiede es 
 zwischen verschiedenen Systemen gibt\n\nDie Beratung erfolgt praxisnah und
  verständlich – mit Blick auf Ihre konkrete Situation.\n\n\n\n\nIhr Fac
 hbetrieb für Alarmanlagen für Sonsbeck am Niederrhein\nAls regionaler An
 bieter kennen wir die Anforderungen vor Ort und bieten maßgeschneiderte L
 ösungen für Kunden in Sonsbeck und Umgebung.\nWir betreuen Projekte unte
 r anderem in:\n\n\n 	Sonsbeck\n 	Xanten\n 	Geldern\n 	Kevelaer\n 	Wesel\n 
 	Kleve und Umgebung\n\nDie regionale Nähe ermöglicht eine persönliche B
 etreuung sowie eine zuverlässige Umsetzung Ihrer Sicherheitslösung.\n\n\
 n\n\nFür wen sind Alarmanlagen für Sonsbeck sinnvoll?\nAlarmanlagen sind
  für unterschiedliche Zielgruppen relevant:\n\n\n 	Eigentümer von Häuse
 rn und Wohnungen\n 	Mieter mit erhöhtem Sicherheitsbedarf\n 	Unternehmen 
 und Gewerbebetriebe\n 	Bauherren und Modernisierer\n\nEine frühzeitige Au
 seinandersetzung mit dem Thema Sicherheit hilft\, Risiken gezielt zu reduz
 ieren.\n\n\n\n\nJetzt informieren: Suritec Frühwarnsystem für Sonsbeck a
 uf dem Herbstmarkt\nNutzen Sie den Sonsbecker Herbstmarkt\, um sich persö
 nlich über Suritec Frühwarnsystem für Sonsbeck\nsowie moderne Sicherhe
 itstechnik zu informieren.\nWir stehen Ihnen für ein unverbindliches Gesp
 räch zur Verfügung und beraten Sie individuell zu passenden Lösungen.\n
 \n\n\n\nAlle Veranstaltungen im Überblick\n\nVeranstalter: Sonsbecker W
 erbegemeinschaft e.V.\n\n\n\n&nbsp\;
ATTACH;FMTTYPE=image/jpeg:https://infra-alarm.de/wp-content/uploads/2026/0
 4/Alarmanlagen-fuer-Sonsbeck-–-Beratung-auf-dem-Sonsbecker-Herbstmarkt-2
 026.webp
CATEGORIES:Promotion
LOCATION:Alarmanlagen Sonsbeck & Märkte der Sonsbecker Werbegemeinschaft\,
  Hochstraße\, Sonsbeck\, NRW\, 47665\, Niederrhein\, Deutschland
GEO:51.606993;6.37655
X-APPLE-STRUCTURED-LOCATION;VALUE=URI;X-ADDRESS=Hochstraße\, Sonsbeck\, NR
 W\, 47665\, Niederrhein\, Deutschland;X-APPLE-RADIUS=100;X-TITLE=Alarmanla
 gen Sonsbeck & Märkte der Sonsbecker Werbegemeinschaft:geo:51.606993,6.37
 655
END:VEVENT
BEGIN:VTIMEZONE
TZID:Europe/Berlin
X-LIC-LOCATION:Europe/Berlin
BEGIN:DAYLIGHT
DTSTART:20260329T030000
TZOFFSETFROM:+0100
TZOFFSETTO:+0200
TZNAME:CEST
END:DAYLIGHT
END:VTIMEZONE
END:VCALENDAR